BEGIN:VCALENDAR
VERSION:2.0
PRODID:-//Plone.org//NONSGML plone.app.event//EN
X-WR-TIMEZONE:US/Central
BEGIN:VEVENT
SUMMARY:Library is Closed
DTSTART;TZID=US/Central:20141224T000000
DTEND;TZID=US/Central:20141226T000000
DTSTAMP:20260419T122610Z
UID:3a6b0e48920a7a998e7a1fdccdd1f864@saas_stack_varnish:6080
CREATED:20141217T202110Z
LAST-MODIFIED:20141217T202610Z
URL:https://iraan.ploud.net/news-events/lib-cal/storytime.ics
END:VEVENT
BEGIN:VTIMEZONE
TZID:US/Central
X-LIC-LOCATION:US/Central
BEGIN:STANDARD
DTSTART:20141102T010000
TZNAME:CST
TZOFFSETFROM:-0500
TZOFFSETTO:-0600
END:STANDARD
END:VTIMEZONE
END:VCALENDAR
